BEGIN:VCALENDAR
VERSION:2.0
PRODID:-//Appleton Museum of Art / College of Central Florida - ECPv6.8.2//NONSGML v1.0//EN
CALSCALE:GREGORIAN
METHOD:PUBLISH
X-ORIGINAL-URL:https://www.appletonmuseum.org
X-WR-CALDESC:Events for Appleton Museum of Art / College of Central Florida
REFRESH-INTERVAL;VALUE=DURATION:PT1H
X-Robots-Tag:noindex
X-PUBLISHED-TTL:PT1H
BEGIN:VTIMEZONE
TZID:UTC
BEGIN:STANDARD
TZOFFSETFROM:+0000
TZOFFSETTO:+0000
TZNAME:UTC
DTSTART:20260101T000000
END:STANDARD
END:VTIMEZONE
BEGIN:VEVENT
DTSTART;TZID=UTC:20260307T100000
DTEND;TZID=UTC:20260307T170000
DTSTAMP:20260426T013904
CREATED:20251216T193907Z
LAST-MODIFIED:20260128T194529Z
UID:5884-1772877600-1772902800@www.appletonmuseum.org
SUMMARY:Free First Saturday
DESCRIPTION:Visit the Appleton on the March 7 for Free First Saturday! Admission to the museum is free from 10 a.m.-5 p.m. Explore the permanent collection\, special exhibitions\, and enjoy family-friendly artmaking activities in the Artspace. \nAt 2 p.m. in the auditorium\, Dr. David Morton will discuss Florida’s springs and their unique role in shaping the American motion picture industry. Featuring iconic films such as “Creature from the Black Lagoon\,” “Thunderball\,” “Moonraker\,” and “Doc Hollywood\,” along with popular TV shows including “Sea Hunt” and “Sea Quest\,” Florida’s springs have had an outstanding role in creating unique and inventive stories. Free as part of Free First Saturday; no reservation needed to attend. Seating is limited to 250 on a first-come\, first-served basis. \nThe Donut Express and McFoodLand food trucks will be on-site throughout the day. \n\n \n\n\n\n\n\nFree First Saturdays are supported in part by CAMPUS USA Credit Union.
URL:https://www.appletonmuseum.org/event/free-first-saturday-march-2026/
LOCATION:Appleton Museum of Art\, 4333 E. Silver Springs Blvd.\, Ocala\, FL\, 34470\, United States
ATTACH;FMTTYPE=image/jpeg:https://www.appletonmuseum.org/wp-content/uploads/2025/12/Free-First-Saturday-banner-2026.jpg
END:VEVENT
BEGIN:VEVENT
DTSTART;TZID=UTC:20260307T140000
DTEND;TZID=UTC:20260307T150000
DTSTAMP:20260426T013904
CREATED:20251216T194710Z
LAST-MODIFIED:20251216T194906Z
UID:5886-1772892000-1772895600@www.appletonmuseum.org
SUMMARY:Silver Springs on the Silver Screen: A Talk by Dr. David Morton
DESCRIPTION:Join us in the auditorium at 2 p.m. on the March 7 Free First Saturday for a talk by Dr. David Morton. \nMorton will discuss Florida’s springs and their unique role in shaping the American motion picture industry. Featuring iconic films such as “Creature from the Black Lagoon\,” “Thunderball\,” “Moonraker\,” and “Doc Hollywood\,” along with popular TV shows including “Sea Hunt” and “Sea Quest\,” Florida’s springs have had an outstanding role in creating unique and inventive stories. \nSeating is limited to 250 on a first-come\, first-served basis. \nFree as part of Free First Saturday; no reservation needed to attend. \n(pictured) Still from “Sea Hunt\,” Courtesy of Florida State Library Archives.
URL:https://www.appletonmuseum.org/event/silver-springs-on-the-silver-screen-a-talk-by-dr-david-morton/
LOCATION:Appleton Museum of Art\, 4333 E. Silver Springs Blvd.\, Ocala\, FL\, 34470\, United States
ATTACH;FMTTYPE=image/jpeg:https://www.appletonmuseum.org/wp-content/uploads/2025/12/Morton-Banner.jpg
END:VEVENT
END:VCALENDAR