BEGIN:VCALENDAR
VERSION:2.0
PRODID:-//Appleton Museum of Art / College of Central Florida - ECPv6.8.2//NONSGML v1.0//EN
CALSCALE:GREGORIAN
METHOD:PUBLISH
X-WR-CALNAME:Appleton Museum of Art / College of Central Florida
X-ORIGINAL-URL:https://www.appletonmuseum.org
X-WR-CALDESC:Events for Appleton Museum of Art / College of Central Florida
REFRESH-INTERVAL;VALUE=DURATION:PT1H
X-Robots-Tag:noindex
X-PUBLISHED-TTL:PT1H
BEGIN:VTIMEZONE
TZID:UTC
BEGIN:STANDARD
TZOFFSETFROM:+0000
TZOFFSETTO:+0000
TZNAME:UTC
DTSTART:20260101T000000
END:STANDARD
END:VTIMEZONE
BEGIN:VEVENT
DTSTART;TZID=UTC:20260409T170000
DTEND;TZID=UTC:20260409T183000
DTSTAMP:20260426T000352
CREATED:20251216T201352Z
LAST-MODIFIED:20251216T201645Z
UID:5900-1775754000-1775759400@www.appletonmuseum.org
SUMMARY:Director's Circle Event: After Hours with Bouguereau
DESCRIPTION:Director’s Circle members are invited to a special talk on artist William-Adolphe Bouguereau (French\, 1825–1905) by Kerry Elkins\, Museum Specialist at the Appleton. \nGuests will begin in the café with light snacks and a glass of wine from the Loire Valley\, a region just outside Bouguereau’s birthplace\, La Rochelle\, a coastal city in southwestern France. \nThe talk will begin at 5:30 p.m. in the auditorium where we’ll share fascinating Bouguereau research\, including insights into his connections with other artists represented in the Appleton collection\, as well as notable figures from art history. For example\, did you know that Pierre Auguste Cot was a student of Bouguereau\, one of a few chosen by the artist to work on faithful reproductions of his paintings? \nDirector’s Circle members must have a current and valid membership at the time of the event. RSVP is required to Colleen Harper\, harperc@cf.edu\, or 352-291-4455\, ext. 1831.
URL:https://www.appletonmuseum.org/event/directors-circle-event-after-hours-with-bouguereau/
LOCATION:Appleton Museum of Art\, 4333 E. Silver Springs Blvd.\, Ocala\, FL\, 34470\, United States
ATTACH;FMTTYPE=image/jpeg:https://www.appletonmuseum.org/wp-content/uploads/2025/12/Shepherdess-Banner.jpg
END:VEVENT
END:VCALENDAR