BEGIN:VCALENDAR
VERSION:2.0
PRODID:-//Appleton Museum of Art / College of Central Florida - ECPv6.8.2//NONSGML v1.0//EN
CALSCALE:GREGORIAN
METHOD:PUBLISH
X-WR-CALNAME:Appleton Museum of Art / College of Central Florida
X-ORIGINAL-URL:https://www.appletonmuseum.org
X-WR-CALDESC:Events for Appleton Museum of Art / College of Central Florida
REFRESH-INTERVAL;VALUE=DURATION:PT1H
X-Robots-Tag:noindex
X-PUBLISHED-TTL:PT1H
BEGIN:VTIMEZONE
TZID:UTC
BEGIN:STANDARD
TZOFFSETFROM:+0000
TZOFFSETTO:+0000
TZNAME:UTC
DTSTART:20260101T000000
END:STANDARD
END:VTIMEZONE
BEGIN:VEVENT
DTSTART;TZID=UTC:20260701T100000
DTEND;TZID=UTC:20260731T170000
DTSTAMP:20260426T040856
CREATED:20260415T145512Z
LAST-MODIFIED:20260415T145715Z
UID:6084-1782900000-1785517200@www.appletonmuseum.org
SUMMARY:Stars\, Stripes and Art: Free Admission July 2026
DESCRIPTION:Museum admission is free throughout the entire month of July in celebration of the 250th anniversary of the United States. \n \nExplore special exhibitions and permanent collection galleries\, visit the Artspace and take this opportunity to introduce family\, friends and colleagues to the Appleton. Also in July\, enjoy a free\, special event featuring a talk by Dr. Keri Watson on Florida’s inspirational landscapes (click here to learn more).
URL:https://www.appletonmuseum.org/event/stars-stripes-and-art-free-admission-july-2026/
LOCATION:Appleton Museum of Art\, 4333 E. Silver Springs Blvd.\, Ocala\, FL\, 34470\, United States
ATTACH;FMTTYPE=image/jpeg:https://www.appletonmuseum.org/wp-content/uploads/2026/04/Free-July-banner.jpg
END:VEVENT
BEGIN:VEVENT
DTSTART;TZID=UTC:20260725T130000
DTEND;TZID=UTC:20260725T140000
DTSTAMP:20260426T040856
CREATED:20260415T144242Z
LAST-MODIFIED:20260415T144242Z
UID:6077-1784984400-1784988000@www.appletonmuseum.org
SUMMARY:Picturing Paradise: From John James Audubon to the Florida Highwaymen
DESCRIPTION:Join Dr. Keri Watson in the auditorium for a free talk: “Picturing Paradise: From John James Audubon to the Florida Highwaymen.” \nThe Florida landscape has provided aesthetic inspiration to artists for centuries. Titian Ramsay Peale and John James Audubon came in search of native flora and fauna\, followed by Harriet Beecher Stowe\, Martin Johnson Heade\, George Inness\, Winslow Homer and Henry Ossawa Tanner\, who were lured by its natural beauty and warm climate. This presentation offers a succinct and engaging history of Florida’s landscape painters. \nFree to attend; no reservation needed. Seating is limited to 250 on a first-come basis. \nAbout the Speaker \nDr. Keri Watson is an associate professor of art history at the University of Central Florida and co-executive editor for “Panorama: Journal of the Association of Historians of American Art.” She is the author of “This is America: Re-Viewing the Art of the United States” (2023) and editor of the “Routledge Companion to Art and Disability” (2022).
URL:https://www.appletonmuseum.org/event/picturing-paradise-july-2026/
LOCATION:Appleton Museum of Art\, 4333 E. Silver Springs Blvd.\, Ocala\, FL\, 34470\, United States
ATTACH;FMTTYPE=image/jpeg:https://www.appletonmuseum.org/wp-content/uploads/2026/04/Watson-Banner.jpg
END:VEVENT
END:VCALENDAR