BEGIN:VCALENDAR
VERSION:2.0
PRODID:-//Appleton Museum of Art / College of Central Florida - ECPv6.8.2//NONSGML v1.0//EN
CALSCALE:GREGORIAN
METHOD:PUBLISH
X-ORIGINAL-URL:https://www.appletonmuseum.org
X-WR-CALDESC:Events for Appleton Museum of Art / College of Central Florida
REFRESH-INTERVAL;VALUE=DURATION:PT1H
X-Robots-Tag:noindex
X-PUBLISHED-TTL:PT1H
BEGIN:VTIMEZONE
TZID:UTC
BEGIN:STANDARD
TZOFFSETFROM:+0000
TZOFFSETTO:+0000
TZNAME:UTC
DTSTART:20260101T000000
END:STANDARD
END:VTIMEZONE
BEGIN:VEVENT
DTSTART;TZID=UTC:20260307T100000
DTEND;TZID=UTC:20260307T170000
DTSTAMP:20260426T014031
CREATED:20251216T193907Z
LAST-MODIFIED:20260128T194529Z
UID:5884-1772877600-1772902800@www.appletonmuseum.org
SUMMARY:Free First Saturday
DESCRIPTION:Visit the Appleton on the March 7 for Free First Saturday! Admission to the museum is free from 10 a.m.-5 p.m. Explore the permanent collection\, special exhibitions\, and enjoy family-friendly artmaking activities in the Artspace. \nAt 2 p.m. in the auditorium\, Dr. David Morton will discuss Florida’s springs and their unique role in shaping the American motion picture industry. Featuring iconic films such as “Creature from the Black Lagoon\,” “Thunderball\,” “Moonraker\,” and “Doc Hollywood\,” along with popular TV shows including “Sea Hunt” and “Sea Quest\,” Florida’s springs have had an outstanding role in creating unique and inventive stories. Free as part of Free First Saturday; no reservation needed to attend. Seating is limited to 250 on a first-come\, first-served basis. \nThe Donut Express and McFoodLand food trucks will be on-site throughout the day. \n\n \n\n\n\n\n\nFree First Saturdays are supported in part by CAMPUS USA Credit Union.
URL:https://www.appletonmuseum.org/event/free-first-saturday-march-2026/
LOCATION:Appleton Museum of Art\, 4333 E. Silver Springs Blvd.\, Ocala\, FL\, 34470\, United States
ATTACH;FMTTYPE=image/jpeg:https://www.appletonmuseum.org/wp-content/uploads/2025/12/Free-First-Saturday-banner-2026.jpg
END:VEVENT
BEGIN:VEVENT
DTSTART;TZID=UTC:20260307T140000
DTEND;TZID=UTC:20260307T150000
DTSTAMP:20260426T014031
CREATED:20251216T194710Z
LAST-MODIFIED:20251216T194906Z
UID:5886-1772892000-1772895600@www.appletonmuseum.org
SUMMARY:Silver Springs on the Silver Screen: A Talk by Dr. David Morton
DESCRIPTION:Join us in the auditorium at 2 p.m. on the March 7 Free First Saturday for a talk by Dr. David Morton. \nMorton will discuss Florida’s springs and their unique role in shaping the American motion picture industry. Featuring iconic films such as “Creature from the Black Lagoon\,” “Thunderball\,” “Moonraker\,” and “Doc Hollywood\,” along with popular TV shows including “Sea Hunt” and “Sea Quest\,” Florida’s springs have had an outstanding role in creating unique and inventive stories. \nSeating is limited to 250 on a first-come\, first-served basis. \nFree as part of Free First Saturday; no reservation needed to attend. \n(pictured) Still from “Sea Hunt\,” Courtesy of Florida State Library Archives.
URL:https://www.appletonmuseum.org/event/silver-springs-on-the-silver-screen-a-talk-by-dr-david-morton/
LOCATION:Appleton Museum of Art\, 4333 E. Silver Springs Blvd.\, Ocala\, FL\, 34470\, United States
ATTACH;FMTTYPE=image/jpeg:https://www.appletonmuseum.org/wp-content/uploads/2025/12/Morton-Banner.jpg
END:VEVENT
BEGIN:VEVENT
DTSTART;TZID=UTC:20260310T140000
DTEND;TZID=UTC:20260310T161500
DTSTAMP:20260426T014031
CREATED:20260107T202426Z
LAST-MODIFIED:20260107T202426Z
UID:5925-1773151200-1773159300@www.appletonmuseum.org
SUMMARY:CF International Film Series: "Across the Universe"
DESCRIPTION:As part of the CF Ira Holmes International Film Series\, see a screening of “Across the Universe.” (PG-13\, UK/USA\, 2007\, 2h 13m) \nThis jukebox musical stars Evan Rachel Wood as a 1960s activist and features 33 Beatles songs with performances by rock icons Joe Cocker and Bono. \nFree for Appleton and film series members; included with admission fee for nonmembers.
URL:https://www.appletonmuseum.org/event/cf-international-film-series-across-the-universe/
LOCATION:Appleton Museum of Art\, 4333 E. Silver Springs Blvd.\, Ocala\, FL\, 34470\, United States
ATTACH;FMTTYPE=image/jpeg:https://www.appletonmuseum.org/wp-content/uploads/2026/01/Across-the-Universe-banner.jpg
END:VEVENT
BEGIN:VEVENT
DTSTART;TZID=UTC:20260312T173000
DTEND;TZID=UTC:20260312T193000
DTSTAMP:20260426T014031
CREATED:20260115T172648Z
LAST-MODIFIED:20260202T175227Z
UID:5942-1773336600-1773343800@www.appletonmuseum.org
SUMMARY:Opening Celebration: "My Country 'Tis of Thee"
DESCRIPTION:All Appleton members are invited to celebrate the opening of “My Country\, ’Tis of Thee: Celebrating American Art and Design\,” on view March 13-September 13\, 2026. \nEnjoy light hors d’oeuvres and American wines\, and be the first to see this exhibition that brings together three centuries of American art and design from the permanent collection. \nRSVP required to Colleen Harper\, harperc@cf.edu\, or 352-291-4455\, ext. 1831.
URL:https://www.appletonmuseum.org/event/opening-celebration-my-country-tis-of-thee/
LOCATION:Appleton Museum of Art\, 4333 E. Silver Springs Blvd.\, Ocala\, FL\, 34470\, United States
ATTACH;FMTTYPE=image/jpeg:https://www.appletonmuseum.org/wp-content/uploads/2026/01/My-Country-banner.jpg
END:VEVENT
BEGIN:VEVENT
DTSTART;TZID=UTC:20260324T140000
DTEND;TZID=UTC:20260324T155000
DTSTAMP:20260426T014031
CREATED:20260107T203322Z
LAST-MODIFIED:20260107T203322Z
UID:5930-1774360800-1774367400@www.appletonmuseum.org
SUMMARY:CF International Film Series: "Living is Easy with Eyes Closed"
DESCRIPTION:As part of the CF Ira Holmes International Film Series\, see a screening of “Living is Easy with Eyes Closed.” (NR\, Spain\, 2013\, 1h 48m) \nSet in 1966\, a high school teacher in Spain teaches English and uses Beatles songs to help his students. When he learns John Lennon will be in the country making a movie\, he and some lovable misfits go on a road trip to meet their hero. \nFree for Appleton and film series members; included with admission fee for nonmembers.
URL:https://www.appletonmuseum.org/event/cf-international-film-series-living-is-easy-with-eyes-closed/
LOCATION:Appleton Museum of Art\, 4333 E. Silver Springs Blvd.\, Ocala\, FL\, 34470\, United States
ATTACH;FMTTYPE=image/jpeg:https://www.appletonmuseum.org/wp-content/uploads/2026/01/Living-is-Easy-banner-1.jpg
END:VEVENT
BEGIN:VEVENT
DTSTART;TZID=UTC:20260404T100000
DTEND;TZID=UTC:20260404T170000
DTSTAMP:20260426T014031
CREATED:20251216T195117Z
LAST-MODIFIED:20260323T140544Z
UID:5894-1775296800-1775322000@www.appletonmuseum.org
SUMMARY:Free First Saturday
DESCRIPTION:Visit the Appleton on the April 4 for Free First Saturday! Admission to the museum is free from 10 a.m.-5 p.m. Explore the permanent collection\, special exhibitions\, and enjoy family-friendly artmaking activities in the Artspace. \nAt 1 p.m. in the auditorium\, exhibiting artist A.E. Kozeliski will discuss the works featured in her solo exhibition\, “Portraits in Passing.” Learn about her contemporary Chinese brush painting techniques and enjoy a live demonstration in the auditorium. Free as part of Free First Saturday; no reservation needed to attend. \nThe Dancing Empanada food truck will be on-site throughout the day\, along with CAMPUS USA Credit Union. \n\n \n\n\n\n\n\nFree First Saturdays are supported in part by CAMPUS USA Credit Union.
URL:https://www.appletonmuseum.org/event/free-first-saturday-april-2026/
LOCATION:Appleton Museum of Art\, 4333 E. Silver Springs Blvd.\, Ocala\, FL\, 34470\, United States
ATTACH;FMTTYPE=image/jpeg:https://www.appletonmuseum.org/wp-content/uploads/2025/12/Free-First-Saturday-banner-2026.jpg
END:VEVENT
BEGIN:VEVENT
DTSTART;TZID=UTC:20260404T130000
DTEND;TZID=UTC:20260404T140000
DTSTAMP:20260426T014031
CREATED:20251216T195640Z
LAST-MODIFIED:20251216T195640Z
UID:5897-1775307600-1775311200@www.appletonmuseum.org
SUMMARY:Artist Talk & Demonstration with A.E. Kozeliski
DESCRIPTION:Join us in the auditorium at 1 p.m. on the April 4 Free First Saturday for a talk and demonstration by A.E. Kozeliski. \nKozeliski will discuss the works featured in her solo exhibition\, “Portraits in Passing.” Learn about her contemporary Chinese brush painting techniques and enjoy a live demonstration in the auditorium. Free as part of Free First Saturday; no reservation needed to attend. \nFree as part of Free First Saturday; no reservation needed to attend.
URL:https://www.appletonmuseum.org/event/artist-talk-and-demonstration/
LOCATION:Appleton Museum of Art\, 4333 E. Silver Springs Blvd.\, Ocala\, FL\, 34470\, United States
ATTACH;FMTTYPE=image/jpeg:https://www.appletonmuseum.org/wp-content/uploads/2025/12/Kozeliski-Artist-Talk-Banner.jpg
END:VEVENT
BEGIN:VEVENT
DTSTART;TZID=UTC:20260409T170000
DTEND;TZID=UTC:20260409T183000
DTSTAMP:20260426T014031
CREATED:20251216T201352Z
LAST-MODIFIED:20251216T201645Z
UID:5900-1775754000-1775759400@www.appletonmuseum.org
SUMMARY:Director's Circle Event: After Hours with Bouguereau
DESCRIPTION:Director’s Circle members are invited to a special talk on artist William-Adolphe Bouguereau (French\, 1825–1905) by Kerry Elkins\, Museum Specialist at the Appleton. \nGuests will begin in the café with light snacks and a glass of wine from the Loire Valley\, a region just outside Bouguereau’s birthplace\, La Rochelle\, a coastal city in southwestern France. \nThe talk will begin at 5:30 p.m. in the auditorium where we’ll share fascinating Bouguereau research\, including insights into his connections with other artists represented in the Appleton collection\, as well as notable figures from art history. For example\, did you know that Pierre Auguste Cot was a student of Bouguereau\, one of a few chosen by the artist to work on faithful reproductions of his paintings? \nDirector’s Circle members must have a current and valid membership at the time of the event. RSVP is required to Colleen Harper\, harperc@cf.edu\, or 352-291-4455\, ext. 1831.
URL:https://www.appletonmuseum.org/event/directors-circle-event-after-hours-with-bouguereau/
LOCATION:Appleton Museum of Art\, 4333 E. Silver Springs Blvd.\, Ocala\, FL\, 34470\, United States
ATTACH;FMTTYPE=image/jpeg:https://www.appletonmuseum.org/wp-content/uploads/2025/12/Shepherdess-Banner.jpg
END:VEVENT
BEGIN:VEVENT
DTSTART;TZID=UTC:20260502T100000
DTEND;TZID=UTC:20260502T170000
DTSTAMP:20260426T014031
CREATED:20260401T125858Z
LAST-MODIFIED:20260422T151841Z
UID:6046-1777716000-1777741200@www.appletonmuseum.org
SUMMARY:Free First Saturday
DESCRIPTION:Visit the Appleton on May 2 for Free First Saturday! Admission to the museum is free from 10 a.m.-5 p.m. Explore the permanent collection\, special exhibitions\, and enjoy family-friendly artmaking activities in the Artspace. \nAt 11 a.m. in the courtyard\, the Fort King Middle School marching band will perform. \nAt 2 p.m. in the auditorium\, see a screening of the 1971 classic\, “Willy Wonka and the Chocolate Factory.” Free as part of Free First Saturday; no reservation needed to attend. \nK-Dog Red Hots food truck will be on-site throughout the day\, along with CAMPUS USA Credit Union. \n\n \n\n\n\n\n\nFree First Saturdays are supported in part by CAMPUS USA Credit Union.
URL:https://www.appletonmuseum.org/event/free-first-saturday-may-2026/
LOCATION:Appleton Museum of Art\, 4333 E. Silver Springs Blvd.\, Ocala\, FL\, 34470\, United States
ATTACH;FMTTYPE=image/jpeg:https://www.appletonmuseum.org/wp-content/uploads/2025/12/Free-First-Saturday-banner-2026.jpg
END:VEVENT
BEGIN:VEVENT
DTSTART;TZID=UTC:20260502T110000
DTEND;TZID=UTC:20260502T120000
DTSTAMP:20260426T014031
CREATED:20260409T190733Z
LAST-MODIFIED:20260409T190733Z
UID:6058-1777719600-1777723200@www.appletonmuseum.org
SUMMARY:Fort King Middle School Marching Band
DESCRIPTION:Join us at 11 a.m. in the museum’s interior courtyard on the May 2 Free First Saturday for a performance by the talented Fort King Middle School Marching Band. \nFree as part of Free First Saturday; no reservation needed to attend. \nFree First Saturdays are supported in part by CAMPUS USA Credit Union.
URL:https://www.appletonmuseum.org/event/fort-king-middle-school-marching-band/
LOCATION:Appleton Museum of Art\, 4333 E. Silver Springs Blvd.\, Ocala\, FL\, 34470\, United States
ATTACH;FMTTYPE=image/jpeg:https://www.appletonmuseum.org/wp-content/uploads/2026/04/Marching-Band.jpg
END:VEVENT
BEGIN:VEVENT
DTSTART;TZID=UTC:20260502T140000
DTEND;TZID=UTC:20260502T154000
DTSTAMP:20260426T014031
CREATED:20260401T130933Z
LAST-MODIFIED:20260409T190819Z
UID:6051-1777730400-1777736400@www.appletonmuseum.org
SUMMARY:P.M. Film Screening: Willy Wonka and the Chocolate Factory
DESCRIPTION:Join us in the auditorium at 2 p.m. on the May 2 Free First Saturday for a screening of “Willy Wonka and the Chocolate Factory” (1971\, Rated G\, 1h 38m). \nJoin the expedition visiting legendary candy man Willy Wonka (Gene Wilder) in a splendiferous movie that wondrously brings to screen the endlessly appetizing delights of Roald Dahl’s classic book. \nFree as part of Free First Saturday; no reservation needed to attend. \nFree First Saturdays are supported in part by CAMPUS USA Credit Union.
URL:https://www.appletonmuseum.org/event/p-m-film-screening-willy-wonka-and-the-chocolate-factory/
LOCATION:Appleton Museum of Art\, 4333 E. Silver Springs Blvd.\, Ocala\, FL\, 34470\, United States
ATTACH;FMTTYPE=image/jpeg:https://www.appletonmuseum.org/wp-content/uploads/2026/04/Wonka.jpg
END:VEVENT
BEGIN:VEVENT
DTSTART;TZID=UTC:20260606T100000
DTEND;TZID=UTC:20260606T170000
DTSTAMP:20260426T014031
CREATED:20260409T193906Z
LAST-MODIFIED:20260409T195417Z
UID:6062-1780740000-1780765200@www.appletonmuseum.org
SUMMARY:Free First Saturday
DESCRIPTION:Visit the Appleton on May 2 for Free First Saturday! Admission to the museum is free from 10 a.m.-5 p.m. Explore the permanent collection\, special exhibitions\, and enjoy family-friendly artmaking activities in the Artspace. \nAt 2 p.m. in the auditorium\, we welcome back Dr. Wayne Wood for a talk on Kenneth Treister\, a Florida architect and sculptor whose designs have been described as\, “a cross between Frank Lloyd Wright\, Antoni Gaudi\, Auguste Rodin and the Mayans.” Free to attend. Click here to learn more. \nPoppy’s Dogs and Barefoot Baker Sweets and Treats will be on-site throughout the day\, along with CAMPUS USA Credit Union and LifeSouth Community Blood Centers. \n\n \n\n\n\n\n\nFree First Saturdays are supported in part by CAMPUS USA Credit Union.
URL:https://www.appletonmuseum.org/event/free-first-saturday-june-2026/
LOCATION:Appleton Museum of Art\, 4333 E. Silver Springs Blvd.\, Ocala\, FL\, 34470\, United States
ATTACH;FMTTYPE=image/jpeg:https://www.appletonmuseum.org/wp-content/uploads/2025/12/Free-First-Saturday-banner-2026.jpg
END:VEVENT
BEGIN:VEVENT
DTSTART;TZID=UTC:20260606T140000
DTEND;TZID=UTC:20260606T150000
DTSTAMP:20260426T014031
CREATED:20260409T195300Z
LAST-MODIFIED:20260409T195707Z
UID:6064-1780754400-1780758000@www.appletonmuseum.org
SUMMARY:Kenneth Treister: The Fusion of Architecture and Art
DESCRIPTION:Join Dr. Wayne Wood in the auditorium on the June 6 Free First Saturday for a talk on Kenneth Treister\, a Florida architect and sculptor whose designs have been described as\, “a cross between Frank Lloyd Wright\, Antoni Gaudi\, Auguste Rodin and the Mayans.” His avant-garde approach to creating sensuous environments with unconventional shapes and novel use of materials sets him apart from other designers. \nFree as part of Free First Saturday; no reservation needed to attend. Seating is limited to 250 on a first-come basis. \nAbout the Speaker \nWidely regarded as one of the foremost chroniclers of Northeast Florida history\, Wayne Wood has been called the “undisputed godfather of preservation in Jacksonville.” An author\, historian\, and artist\, he founded Riverside Avondale Preservation and Riverside Arts Market. He has published 15 books on Northeast Florida\, including Jacksonville’s Architectural Heritage. \nFree First Saturdays are supported in part by CAMPUS USA Credit Union.
URL:https://www.appletonmuseum.org/event/kenneth-treister-the-fusion-of-architecture-and-art/
LOCATION:Appleton Museum of Art\, 4333 E. Silver Springs Blvd.\, Ocala\, FL\, 34470\, United States
ATTACH;FMTTYPE=image/jpeg:https://www.appletonmuseum.org/wp-content/uploads/2026/04/Treister.jpg
END:VEVENT
BEGIN:VEVENT
DTSTART;TZID=UTC:20260701T100000
DTEND;TZID=UTC:20260731T170000
DTSTAMP:20260426T014031
CREATED:20260415T145512Z
LAST-MODIFIED:20260415T145715Z
UID:6084-1782900000-1785517200@www.appletonmuseum.org
SUMMARY:Stars\, Stripes and Art: Free Admission July 2026
DESCRIPTION:Museum admission is free throughout the entire month of July in celebration of the 250th anniversary of the United States. \n \nExplore special exhibitions and permanent collection galleries\, visit the Artspace and take this opportunity to introduce family\, friends and colleagues to the Appleton. Also in July\, enjoy a free\, special event featuring a talk by Dr. Keri Watson on Florida’s inspirational landscapes (click here to learn more).
URL:https://www.appletonmuseum.org/event/stars-stripes-and-art-free-admission-july-2026/
LOCATION:Appleton Museum of Art\, 4333 E. Silver Springs Blvd.\, Ocala\, FL\, 34470\, United States
ATTACH;FMTTYPE=image/jpeg:https://www.appletonmuseum.org/wp-content/uploads/2026/04/Free-July-banner.jpg
END:VEVENT
BEGIN:VEVENT
DTSTART;TZID=UTC:20260725T130000
DTEND;TZID=UTC:20260725T140000
DTSTAMP:20260426T014031
CREATED:20260415T144242Z
LAST-MODIFIED:20260415T144242Z
UID:6077-1784984400-1784988000@www.appletonmuseum.org
SUMMARY:Picturing Paradise: From John James Audubon to the Florida Highwaymen
DESCRIPTION:Join Dr. Keri Watson in the auditorium for a free talk: “Picturing Paradise: From John James Audubon to the Florida Highwaymen.” \nThe Florida landscape has provided aesthetic inspiration to artists for centuries. Titian Ramsay Peale and John James Audubon came in search of native flora and fauna\, followed by Harriet Beecher Stowe\, Martin Johnson Heade\, George Inness\, Winslow Homer and Henry Ossawa Tanner\, who were lured by its natural beauty and warm climate. This presentation offers a succinct and engaging history of Florida’s landscape painters. \nFree to attend; no reservation needed. Seating is limited to 250 on a first-come basis. \nAbout the Speaker \nDr. Keri Watson is an associate professor of art history at the University of Central Florida and co-executive editor for “Panorama: Journal of the Association of Historians of American Art.” She is the author of “This is America: Re-Viewing the Art of the United States” (2023) and editor of the “Routledge Companion to Art and Disability” (2022).
URL:https://www.appletonmuseum.org/event/picturing-paradise-july-2026/
LOCATION:Appleton Museum of Art\, 4333 E. Silver Springs Blvd.\, Ocala\, FL\, 34470\, United States
ATTACH;FMTTYPE=image/jpeg:https://www.appletonmuseum.org/wp-content/uploads/2026/04/Watson-Banner.jpg
END:VEVENT
BEGIN:VEVENT
DTSTART;TZID=UTC:20260801T100000
DTEND;TZID=UTC:20260801T170000
DTSTAMP:20260426T014031
CREATED:20260415T141018Z
LAST-MODIFIED:20260415T141018Z
UID:6070-1785578400-1785603600@www.appletonmuseum.org
SUMMARY:Free First Saturday
DESCRIPTION:Visit the Appleton on August 1 for Free First Saturday! Admission to the museum is free from 10 a.m.-5 p.m. Explore the permanent collection\, special exhibitions\, and enjoy family-friendly artmaking activities in the Artspace. \nAt 11 a.m. and 2 p.m. in the auditorium\, see a screening of “1776” (1972\, Rated G\, 2h 20m). This adaptation of the Broadway Tony-winning musical celebrates the founding fathers’ midwifery of the Declaration of Independence\, the document that would give birth to a nation. Free to attend. \nPoppy’s Dogs food truck will be on-site throughout the day\, along with CAMPUS USA Credit Union. \n\n \n\n\n\n\n\nFree First Saturdays are supported in part by CAMPUS USA Credit Union.
URL:https://www.appletonmuseum.org/event/free-first-saturday-august-2026/
LOCATION:Appleton Museum of Art\, 4333 E. Silver Springs Blvd.\, Ocala\, FL\, 34470\, United States
ATTACH;FMTTYPE=image/jpeg:https://www.appletonmuseum.org/wp-content/uploads/2025/12/Free-First-Saturday-banner-2026.jpg
END:VEVENT
BEGIN:VEVENT
DTSTART;TZID=UTC:20260801T110000
DTEND;TZID=UTC:20260801T134000
DTSTAMP:20260426T014031
CREATED:20260415T142719Z
LAST-MODIFIED:20260415T142719Z
UID:6075-1785582000-1785591600@www.appletonmuseum.org
SUMMARY:A.M. Film Screening: 1776
DESCRIPTION:Join us in the auditorium at 11 a.m. and 2 p.m. on the August 1 Free First Saturday for a screening of “1776” (1972\, Rated G\, 2h 20m) \nThis adaptation of the Broadway Tony-winning musical celebrates the founding fathers’ midwifery of the Declaration of Independence\, the document that would give birth to a nation. \nFree as part of Free First Saturday; no reservation needed to attend. \nFree First Saturdays are supported in part by CAMPUS USA Credit Union.
URL:https://www.appletonmuseum.org/event/a-m-film-screening-1776/
LOCATION:Appleton Museum of Art\, 4333 E. Silver Springs Blvd.\, Ocala\, FL\, 34470\, United States
ATTACH;FMTTYPE=image/jpeg:https://www.appletonmuseum.org/wp-content/uploads/2026/04/1776-Banner.jpg
END:VEVENT
BEGIN:VEVENT
DTSTART;TZID=UTC:20260801T140000
DTEND;TZID=UTC:20260801T164000
DTSTAMP:20260426T014031
CREATED:20260415T142456Z
LAST-MODIFIED:20260415T143128Z
UID:6072-1785592800-1785602400@www.appletonmuseum.org
SUMMARY:P.M. Film Screening: 1776
DESCRIPTION:Join us in the auditorium at 11 a.m. and 2 p.m. on the August 1 Free First Saturday for a screening of “1776” (1972\, Rated G\, 2h 20m) \nThis adaptation of the Broadway Tony-winning musical celebrates the founding fathers’ midwifery of the Declaration of Independence\, the document that would give birth to a nation. \nFree as part of Free First Saturday; no reservation needed to attend. \nFree First Saturdays are supported in part by CAMPUS USA Credit Union.
URL:https://www.appletonmuseum.org/event/p-m-film-screening-1776/
LOCATION:Appleton Museum of Art\, 4333 E. Silver Springs Blvd.\, Ocala\, FL\, 34470\, United States
ATTACH;FMTTYPE=image/jpeg:https://www.appletonmuseum.org/wp-content/uploads/2026/04/1776-Banner.jpg
END:VEVENT
BEGIN:VEVENT
DTSTART;TZID=UTC:20260827T170000
DTEND;TZID=UTC:20260827T183000
DTSTAMP:20260426T014031
CREATED:20260415T155937Z
LAST-MODIFIED:20260415T155937Z
UID:6092-1787850000-1787855400@www.appletonmuseum.org
SUMMARY:Director's Circle Event: After Hours with Maritime Art
DESCRIPTION:The second event in our After Hours lecture series\, Director’s Circle members are invited to join Museum Educator Hollis Mutch for a talk on maritime art from the permanent collection. Learn more about the Battle of Trafalgar\, the decisive British Naval Victory during the Napoleonic Wars\, through an examination of William Adolphus Knell’s painting and the miniature replica of the HMS Victory. Explore the artwork of Richard Brydges Beechey\, Henry Scott\, Montague Dawson\, and the history of the British tea clipper\, the Cutty Sark. \nLike last time\, we will meet in the café for light snacks and a glass of wine. You will be permitted to bring your wine into the auditorium. The talk will begin at 5:45 p.m. \nThis event is free\, and open to Director’s Circle members. RSVP is required to Colleen Harper\, harperc@cf.edu\, or 352-291-4455\, ext. 1831.
URL:https://www.appletonmuseum.org/event/directors-circle-event-after-hours-with-maritime-art/
LOCATION:Appleton Museum of Art\, 4333 E. Silver Springs Blvd.\, Ocala\, FL\, 34470\, United States
ATTACH;FMTTYPE=image/jpeg:https://www.appletonmuseum.org/wp-content/uploads/2026/04/Maritime-banner.jpg
END:VEVENT
END:VCALENDAR