BEGIN:VCALENDAR
VERSION:2.0
PRODID:-//Appleton Museum of Art / College of Central Florida - ECPv6.8.2//NONSGML v1.0//EN
CALSCALE:GREGORIAN
METHOD:PUBLISH
X-WR-CALNAME:Appleton Museum of Art / College of Central Florida
X-ORIGINAL-URL:https://www.appletonmuseum.org
X-WR-CALDESC:Events for Appleton Museum of Art / College of Central Florida
REFRESH-INTERVAL;VALUE=DURATION:PT1H
X-Robots-Tag:noindex
X-PUBLISHED-TTL:PT1H
BEGIN:VTIMEZONE
TZID:UTC
BEGIN:STANDARD
TZOFFSETFROM:+0000
TZOFFSETTO:+0000
TZNAME:UTC
DTSTART:20240101T000000
END:STANDARD
END:VTIMEZONE
BEGIN:VEVENT
DTSTART;TZID=UTC:20250211T140000
DTEND;TZID=UTC:20250211T153000
DTSTAMP:20260426T043836
CREATED:20250107T181052Z
LAST-MODIFIED:20250123T181209Z
UID:5020-1739282400-1739287800@www.appletonmuseum.org
SUMMARY:CF International Film Series Screening: "Hit the Road"
DESCRIPTION:As part of the CF Ira Holmes International Film Series\, see a screening of “Hit the Road.” \nPanah Panahi\, son and collaborator of embattled filmmaker Jafar Panahi and apprentice to Iranian master Abbas Kiarostami\, makes a striking feature debut with this charming\, sharp-witted and deeply moving comic drama. Hit the Road takes the tradition of the Iranian road-trip movie and adds unexpected twists and turns. It follows a family of four – two middle-aged parents and their sons\, one a taciturn adult\, the other an ebullient six-year-old – as they drive across the Iranian countryside. (NR\, Iran\, 2021\, 1 hour\, 33 minutes) \nScreenings are free for Appleton and film series members; included with admission fee for nonmembers. \n 
URL:https://www.appletonmuseum.org/event/cf-international-film-series-screening-hit-the-road/
LOCATION:Appleton Museum of Art\, 4333 E. Silver Springs Blvd.\, Ocala\, FL\, 34470\, United States
ATTACH;FMTTYPE=image/jpeg:https://www.appletonmuseum.org/wp-content/uploads/2025/01/Hit-the-Road.jpg
END:VEVENT
BEGIN:VEVENT
DTSTART;TZID=UTC:20250201T140000
DTEND;TZID=UTC:20250201T152000
DTSTAMP:20260426T043836
CREATED:20241204T145506Z
LAST-MODIFIED:20241204T145506Z
UID:4961-1738418400-1738423200@www.appletonmuseum.org
SUMMARY:Film Screening: "Boom for Real: The Late Teenage Years of Jean-Michel Basquiat"
DESCRIPTION:Join us on the February 1 Free First Saturday for a screening of the 2017 documentary\, “Boom for Real: The Late Teenage Years of Jean-Michel Basquiat.” Never-before-seen works\, writings and photographs offer insight into the life of Jean-Michel Basquiat as a teenager in New York in the late 1970s. The times\, the people and the movements of the city help Basquiat form his artistic vision. Screenings are free; no reservations needed to attend. (PG\, 1 h 18 m) \nScreenings are at 11 a.m. and 2 p.m. and are free as part of Free First Saturday. No reservations needed to attend. \nFree First Saturdays are supported in part by CAMPUS USA Credit Union\, Marion Cultural Alliance and National Endowment for the Arts.
URL:https://www.appletonmuseum.org/event/film-screening-boom-for-real-p-m-screening/
LOCATION:Appleton Museum of Art\, 4333 E. Silver Springs Blvd.\, Ocala\, FL\, 34470\, United States
ATTACH;FMTTYPE=image/jpeg:https://www.appletonmuseum.org/wp-content/uploads/2024/12/Boom-for-Real-Banner.jpg
END:VEVENT
BEGIN:VEVENT
DTSTART;TZID=UTC:20250201T110000
DTEND;TZID=UTC:20250201T122000
DTSTAMP:20260426T043836
CREATED:20241204T145336Z
LAST-MODIFIED:20241204T145336Z
UID:4958-1738407600-1738412400@www.appletonmuseum.org
SUMMARY:Film Screening: "Boom for Real: The Late Teenage Years of Jean-Michel Basquiat"
DESCRIPTION:Join us on the February 1 Free First Saturday for a screening of the 2017 documentary\, “Boom for Real: The Late Teenage Years of Jean-Michel Basquiat.” Never-before-seen works\, writings and photographs offer insight into the life of Jean-Michel Basquiat as a teenager in New York in the late 1970s. The times\, the people and the movements of the city help Basquiat form his artistic vision. Screenings are free; no reservations needed to attend. (PG\, 1 h 18 m) \nScreenings are at 11 a.m. and 2 p.m. and are free as part of Free First Saturday. No reservations needed to attend. \nFree First Saturdays are supported in part by CAMPUS USA Credit Union\, Marion Cultural Alliance and National Endowment for the Arts.
URL:https://www.appletonmuseum.org/event/film-screening-boom-for-real-a-m-screening/
LOCATION:Appleton Museum of Art\, 4333 E. Silver Springs Blvd.\, Ocala\, FL\, 34470\, United States
ATTACH;FMTTYPE=image/jpeg:https://www.appletonmuseum.org/wp-content/uploads/2024/12/Boom-for-Real-Banner.jpg
END:VEVENT
BEGIN:VEVENT
DTSTART;TZID=UTC:20250201T100000
DTEND;TZID=UTC:20250201T170000
DTSTAMP:20260426T043836
CREATED:20241204T144943Z
LAST-MODIFIED:20250125T190033Z
UID:4956-1738404000-1738429200@www.appletonmuseum.org
SUMMARY:Free First Saturday
DESCRIPTION:Visit the Appleton on February 1 for Free First Saturday! Admission to the museum is free from 10 a.m.-5 p.m. Explore the permanent collection\, special exhibitions\, and enjoy family-friendly artmaking activities in the Artspace. \nAt 11 a.m. and 2 p.m. see a screening of the 2017 documentary\, “Boom for Real: The Late Teenage Years of Jean-Michel Basquiat.” Never-before-seen works\, writings and photographs offer insight into the life of Jean-Michel Basquiat as a teenager in New York in the late 1970s. The times\, the people and the movements of the city help Basquiat form his artistic vision. Screenings are free; no reservations needed to attend. (PG\, 1 h 18 m) \nThe Nan & Tam Buns on the Run and Donut Express food trucks will be onsite throughout the day. \nSaturday hours are 10 a.m.-5 p.m. \n\n\n\n\n\n\n\nFree First Saturdays are supported in part by CAMPUS USA Credit Union\, Marion Cultural Alliance and National Endowment for the Arts.
URL:https://www.appletonmuseum.org/event/free-first-saturday-february-2025/
LOCATION:Appleton Museum of Art\, 4333 E. Silver Springs Blvd.\, Ocala\, FL\, 34470\, United States
ATTACH;FMTTYPE=image/jpeg:https://www.appletonmuseum.org/wp-content/uploads/2024/11/Free-First-Saturday-aerial.jpg
END:VEVENT
BEGIN:VEVENT
DTSTART;TZID=UTC:20250104T140000
DTEND;TZID=UTC:20250104T155000
DTSTAMP:20260426T043836
CREATED:20241204T143419Z
LAST-MODIFIED:20241204T143419Z
UID:4954-1735999200-1736005800@www.appletonmuseum.org
SUMMARY:Film Screening: "Frozen"
DESCRIPTION:Join us on the January 4 Free First Saturday for a screening of the 2013 Disney animated musical\, “Frozen.” After the kingdom of Arendelle is cast into eternal winter by the powerful Snow Queen Elsa\, her sprightly sister Anna teams up with a rough-hewn mountaineer named Kristoff and his trusty reindeer Sven to break the icy spell. Based on “The Snow Queen” by Hans Christian Andersen. \nScreenings are at 11 a.m. and 2 p.m. and are free as part of Free First Saturday. No reservations needed to attend. \nFree First Saturdays are supported in part by CAMPUS USA Credit Union\, Marion Cultural Alliance and National Endowment for the Arts.
URL:https://www.appletonmuseum.org/event/film-screening-frozen-p-m-screening/
LOCATION:Appleton Museum of Art\, 4333 E. Silver Springs Blvd.\, Ocala\, FL\, 34470\, United States
ATTACH;FMTTYPE=image/jpeg:https://www.appletonmuseum.org/wp-content/uploads/2024/12/Frozen-banner.jpg
END:VEVENT
BEGIN:VEVENT
DTSTART;TZID=UTC:20250104T110000
DTEND;TZID=UTC:20250104T125000
DTSTAMP:20260426T043836
CREATED:20241204T143104Z
LAST-MODIFIED:20241204T143104Z
UID:4949-1735988400-1735995000@www.appletonmuseum.org
SUMMARY:Film Screening: "Frozen"
DESCRIPTION:Join us on the January 4 Free First Saturday for a screening of the 2013 Disney animated musical\, “Frozen.” After the kingdom of Arendelle is cast into eternal winter by the powerful Snow Queen Elsa\, her sprightly sister Anna teams up with a rough-hewn mountaineer named Kristoff and his trusty reindeer Sven to break the icy spell. Based on “The Snow Queen” by Hans Christian Andersen. \nScreenings are at 11 a.m. and 2 p.m. and are free as part of Free First Saturday. No reservations needed to attend. \nFree First Saturdays are supported in part by CAMPUS USA Credit Union\, Marion Cultural Alliance and National Endowment for the Arts.
URL:https://www.appletonmuseum.org/event/film-screening-frozen-a-m-screening/
LOCATION:Appleton Museum of Art\, 4333 E. Silver Springs Blvd.\, Ocala\, FL\, 34470\, United States
ATTACH;FMTTYPE=image/jpeg:https://www.appletonmuseum.org/wp-content/uploads/2024/12/Frozen-banner.jpg
END:VEVENT
BEGIN:VEVENT
DTSTART;TZID=UTC:20250104T100000
DTEND;TZID=UTC:20250104T170000
DTSTAMP:20260426T043836
CREATED:20241120T140446Z
LAST-MODIFIED:20241204T143251Z
UID:4910-1735984800-1736010000@www.appletonmuseum.org
SUMMARY:Free First Saturday
DESCRIPTION:Visit the Appleton on January 4 for Free First Saturday! Admission to the museum is free from 10 a.m.-5 p.m. Explore the permanent collection\, special exhibitions\, and enjoy family-friendly artmaking activities in the Artspace. \nAt 11 a.m. and 2 p.m. see a screening of the 2013 Disney animated musical\, “Frozen.” After the kingdom of Arendelle is cast into eternal winter by the powerful Snow Queen Elsa\, her sprightly sister Anna teams up with a rough-hewn mountaineer named Kristoff and his trusty reindeer Sven to break the icy spell. Based on “The Snow Queen” by Hans Christian Andersen. Screenings are free; no reservations needed to attend. (PG\, 1 h 50 m) \nThe Heavenly Foods and Devilish Treats food truck will be onsite throughout the day. \nSaturday hours are 10 a.m.-5 p.m. \n\n\n\n\n\n\n\nFree First Saturdays are supported in part by CAMPUS USA Credit Union\, Marion Cultural Alliance and National Endowment for the Arts.
URL:https://www.appletonmuseum.org/event/free-first-saturday-january-2025/
LOCATION:Appleton Museum of Art\, 4333 E. Silver Springs Blvd.\, Ocala\, FL\, 34470\, United States
ATTACH;FMTTYPE=image/jpeg:https://www.appletonmuseum.org/wp-content/uploads/2024/11/Free-First-Saturday-aerial.jpg
END:VEVENT
BEGIN:VEVENT
DTSTART;VALUE=DATE:20250101
DTEND;VALUE=DATE:20250102
DTSTAMP:20260426T043836
CREATED:20250101T142626Z
LAST-MODIFIED:20250101T142626Z
UID:5011-1735689600-1735775999@www.appletonmuseum.org
SUMMARY:Holiday Closure
DESCRIPTION:The Appleton is closed in observance of New Year’s Day. Regular hours will resume tomorrow.
URL:https://www.appletonmuseum.org/event/holiday-closure-new-year-2025/
LOCATION:Appleton Museum of Art\, 4333 E. Silver Springs Blvd.\, Ocala\, FL\, 34470\, United States
ATTACH;FMTTYPE=image/jpeg:https://www.appletonmuseum.org/wp-content/uploads/2025/01/iStock-2154698917.jpg
END:VEVENT
BEGIN:VEVENT
DTSTART;TZID=UTC:20241207T100000
DTEND;TZID=UTC:20241207T170000
DTSTAMP:20260426T043836
CREATED:20241120T134450Z
LAST-MODIFIED:20241205T190925Z
UID:4902-1733565600-1733590800@www.appletonmuseum.org
SUMMARY:Holiday Community Day
DESCRIPTION:Visit on the December 7 Free First Saturday for the annual Holiday Community Day. Enjoy free admission all day to see “A Dickens Christmas: The Urban Family’s Holiday Exhibition\,” as well as other holiday displays and special exhibitions. Make festive crafts in the Artspace\, and from 10 a.m.-3 p.m.\, have your picture taken with Santa and Mrs. Claus and enjoy Face Painting by Tonya. \nThe Donut Express\, Poppy’s Dogs and Little Red’s Chicken & BBQ food trucks will be onsite throughout the day. \nSaturday hours are 10 a.m.-5 p.m. \nThis Free First Saturday/Holiday Community Day is sponsored by the Urban Family\, CAMPUS USA Credit Union\, Marion Cultural Alliance and National Endowment for the Arts.
URL:https://www.appletonmuseum.org/event/holiday-community-day/
LOCATION:Appleton Museum of Art\, 4333 E. Silver Springs Blvd.\, Ocala\, FL\, 34470\, United States
ATTACH;FMTTYPE=image/jpeg:https://www.appletonmuseum.org/wp-content/uploads/2024/11/Holiday-Community-Day.jpg
END:VEVENT
BEGIN:VEVENT
DTSTART;TZID=UTC:20241126T140000
DTEND;TZID=UTC:20241126T160000
DTSTAMP:20260426T043836
CREATED:20241120T135433Z
LAST-MODIFIED:20241120T135912Z
UID:4907-1732629600-1732636800@www.appletonmuseum.org
SUMMARY:CF Film Screening: "Close to Vermeer"
DESCRIPTION:Presented by the College of Central Florida’s Ira Holmes International Film Series\, see a screening of “Close to Vermeer.” (NR\, Netherlands\, 2023\, 1 hour\, 19 minutes) \nCapturing the imagination of the art world – with glowing reviews\, global publicity\, and tickets sold out through the entirety of its run – the Rijksmuseum’s Vermeer retrospective is nothing short of an historic event. Suzanne Raes’s film follows curators\, conservators\, collectors\, and experts in their joint mission to shine a new light on the elusive Dutch Master. This fascinating documentary reveals everything from the quiet diplomacy required to get the Vermeers to the Netherlands and the new technical knowledge gained by scanning the paintings layer by layer\, to the shocking news that one work may not be by Vermeer after all. \nFilm is free for Appleton and film series members; included with admission fee for nonmembers.
URL:https://www.appletonmuseum.org/event/cf-international-film-screening-close-to-vermeer/
LOCATION:Appleton Museum of Art\, 4333 E. Silver Springs Blvd.\, Ocala\, FL\, 34470\, United States
ATTACH;FMTTYPE=image/jpeg:https://www.appletonmuseum.org/wp-content/uploads/2024/11/Vermeer-Banner.jpg
END:VEVENT
END:VCALENDAR