BEGIN:VCALENDAR
VERSION:2.0
PRODID:-//Appleton Museum of Art / College of Central Florida - ECPv6.8.2//NONSGML v1.0//EN
CALSCALE:GREGORIAN
METHOD:PUBLISH
X-ORIGINAL-URL:https://www.appletonmuseum.org
X-WR-CALDESC:Events for Appleton Museum of Art / College of Central Florida
REFRESH-INTERVAL;VALUE=DURATION:PT1H
X-Robots-Tag:noindex
X-PUBLISHED-TTL:PT1H
BEGIN:VTIMEZONE
TZID:UTC
BEGIN:STANDARD
TZOFFSETFROM:+0000
TZOFFSETTO:+0000
TZNAME:UTC
DTSTART:20260101T000000
END:STANDARD
END:VTIMEZONE
BEGIN:VEVENT
DTSTART;TZID=UTC:20260502T100000
DTEND;TZID=UTC:20260502T170000
DTSTAMP:20260425T235207
CREATED:20260401T125858Z
LAST-MODIFIED:20260422T151841Z
UID:6046-1777716000-1777741200@www.appletonmuseum.org
SUMMARY:Free First Saturday
DESCRIPTION:Visit the Appleton on May 2 for Free First Saturday! Admission to the museum is free from 10 a.m.-5 p.m. Explore the permanent collection\, special exhibitions\, and enjoy family-friendly artmaking activities in the Artspace. \nAt 11 a.m. in the courtyard\, the Fort King Middle School marching band will perform. \nAt 2 p.m. in the auditorium\, see a screening of the 1971 classic\, “Willy Wonka and the Chocolate Factory.” Free as part of Free First Saturday; no reservation needed to attend. \nK-Dog Red Hots food truck will be on-site throughout the day\, along with CAMPUS USA Credit Union. \n\n \n\n\n\n\n\nFree First Saturdays are supported in part by CAMPUS USA Credit Union.
URL:https://www.appletonmuseum.org/event/free-first-saturday-may-2026/
LOCATION:Appleton Museum of Art\, 4333 E. Silver Springs Blvd.\, Ocala\, FL\, 34470\, United States
ATTACH;FMTTYPE=image/jpeg:https://www.appletonmuseum.org/wp-content/uploads/2025/12/Free-First-Saturday-banner-2026.jpg
END:VEVENT
BEGIN:VEVENT
DTSTART;TZID=UTC:20260502T110000
DTEND;TZID=UTC:20260502T120000
DTSTAMP:20260425T235207
CREATED:20260409T190733Z
LAST-MODIFIED:20260409T190733Z
UID:6058-1777719600-1777723200@www.appletonmuseum.org
SUMMARY:Fort King Middle School Marching Band
DESCRIPTION:Join us at 11 a.m. in the museum’s interior courtyard on the May 2 Free First Saturday for a performance by the talented Fort King Middle School Marching Band. \nFree as part of Free First Saturday; no reservation needed to attend. \nFree First Saturdays are supported in part by CAMPUS USA Credit Union.
URL:https://www.appletonmuseum.org/event/fort-king-middle-school-marching-band/
LOCATION:Appleton Museum of Art\, 4333 E. Silver Springs Blvd.\, Ocala\, FL\, 34470\, United States
ATTACH;FMTTYPE=image/jpeg:https://www.appletonmuseum.org/wp-content/uploads/2026/04/Marching-Band.jpg
END:VEVENT
BEGIN:VEVENT
DTSTART;TZID=UTC:20260502T140000
DTEND;TZID=UTC:20260502T154000
DTSTAMP:20260425T235207
CREATED:20260401T130933Z
LAST-MODIFIED:20260409T190819Z
UID:6051-1777730400-1777736400@www.appletonmuseum.org
SUMMARY:P.M. Film Screening: Willy Wonka and the Chocolate Factory
DESCRIPTION:Join us in the auditorium at 2 p.m. on the May 2 Free First Saturday for a screening of “Willy Wonka and the Chocolate Factory” (1971\, Rated G\, 1h 38m). \nJoin the expedition visiting legendary candy man Willy Wonka (Gene Wilder) in a splendiferous movie that wondrously brings to screen the endlessly appetizing delights of Roald Dahl’s classic book. \nFree as part of Free First Saturday; no reservation needed to attend. \nFree First Saturdays are supported in part by CAMPUS USA Credit Union.
URL:https://www.appletonmuseum.org/event/p-m-film-screening-willy-wonka-and-the-chocolate-factory/
LOCATION:Appleton Museum of Art\, 4333 E. Silver Springs Blvd.\, Ocala\, FL\, 34470\, United States
ATTACH;FMTTYPE=image/jpeg:https://www.appletonmuseum.org/wp-content/uploads/2026/04/Wonka.jpg
END:VEVENT
END:VCALENDAR